BEGIN:VCALENDAR
VERSION:2.0
PRODID:-//eventon.com NONSGML v1.0//EN
CALSCALE:GREGORIAN
METHOD:PUBLISH
BEGIN:VEVENT
UID:69e75fbf144ab
DTSTAMP:20260421T113007Z
DTSTART:20250328T133000Z
DTEND:20250328T163000Z
LOCATION:
SUMMARY:Wir empfehlen: âRessourcen schonen in der Gemeinschaftsverpflegung"
DESCRIPTION:Ressourcen schonen in der Gemeinschaftsverpflegung Wann? 28. MĂ
 ¤rz 2025 von 14:30 bis 17:30 Wo? Â Bayerisches Staatministerium fĂźr ErnĂ¤h
 rung\,  Landwirtschaft\,  Forsten und Tourismus\,  LudwigstraĂe 2\,  80539
  MĂźnchenÂ  Das Amt fĂźr ErnĂ¤hrung\,  Landwirtschaft und Forsten Ebersberg
 -Erding lĂ¤dt zu einem spannenden Workshop ein\,  der praxisnahe AnsĂ¤tze f
 Ăźr eine nachhaltige Verpflegung in der Gemeinschaftsverpflegung[..]\nhttps
 ://www.m-i-n.net/events/wir-empfehlen-ressourcen-schonen-in-der-gemeinschaf
 tsverpflegung/
URL:https://www.m-i-n.net/events/wir-empfehlen-ressourcen-schonen-in-der-gemeinschaftsverpflegung/
END:VEVENT
END:VCALENDAR