BEGIN:VCALENDAR
VERSION:2.0
PRODID:-//eventon.com NONSGML v1.0//EN
CALSCALE:GREGORIAN
METHOD:PUBLISH
BEGIN:VEVENT
UID:69e74acd100b8
DTSTAMP:20260421T100045Z
DTSTART:20250322T130000Z
DTEND:20250322T160000Z
LOCATION:
SUMMARY:Wir empfehlen: „Solarspaziergang Trudering"
DESCRIPTION:Solarspaziergang München Ost  Wann? 22. März 2025 von 14:00 
 bis 17:00 Uhr Wo? im München Ost Spielt ihr auch schon seit längerem mit
  dem Gedanken\,  eine Balkonsolar-Anlage an eure Balkone zu schrauben oder 
 Solarmodule auf dem Dach eures Hauses zu installieren und so einen Teil eur
 es Stroms selbst zu produzieren? Ihr[..]\nhttps://www.m-i-n.net/events/wir-
 empfehlen-solarspaziergang-trudering-im-muenchner-osten/
URL:https://www.m-i-n.net/events/wir-empfehlen-solarspaziergang-trudering-im-muenchner-osten/
END:VEVENT
END:VCALENDAR