BEGIN:VCALENDAR
VERSION:2.0
PRODID:-//eventon.com NONSGML v1.0//EN
CALSCALE:GREGORIAN
METHOD:PUBLISH
BEGIN:VEVENT
UID:69e9f9fe596ea
DTSTAMP:20260423T105246Z
DTSTART:20250306T180000Z
DTEND:20250306T193000Z
LOCATION:
SUMMARY:Wir empfehlen: „Klimakrise: Ende des „billigen“ Wohlstands”
DESCRIPTION:Klimakrise: Ende des „billigen“ Wohlstands Wann? 06.03.2025
 \,  19:00 Wo?  Münchner Zukunftssalon\,  Goethestr. 28\,  München\,  auc
 h per Zoom-Online und YouTube „Klimakrise: Warum tun wir schon solange
  viel zu wenig?“ Bisher schufen fossile Rohstoffe\,  preiswerte Düngemit
 tel\,  importierte Billigwaren und minderbezahlte Arbeitskräfte aus dem S
 den einen hohen Wohlstand – auf Kosten des Klimas und weltweiter Ausbeut
 ung[..]\nhttps://www.m-i-n.net/events/wir-empfehlen-klimakrise-ende-des-bil
 ligen-wohlstands/
URL:https://www.m-i-n.net/events/wir-empfehlen-klimakrise-ende-des-billigen-wohlstands/
END:VEVENT
END:VCALENDAR