BEGIN:VCALENDAR
VERSION:2.0
PRODID:-//eventon.com NONSGML v1.0//EN
CALSCALE:GREGORIAN
METHOD:PUBLISH
BEGIN:VEVENT
UID:69e61471044e1
DTSTAMP:20260420T115633Z
DTSTART:20250324T180000Z
DTEND:20250324T193000Z
LOCATION:
SUMMARY:Wir empfehlen: „Vortrag: Mietshäuser Syndikat”
DESCRIPTION:Vortrag: Mietshäuser Syndikat Wann? 24.03.2025\,  19:00 Wo?  
 mitbauzentrale\,  Schwindstraße 1 / Ecke Theresienstraße Was ist eigentli
 ch das Mietshäuser Syndikat? Kann das Mietshäuser Syndikat gegen Immobili
 enspekulation wirken? Wenn ihr euch in eurem Freundeskreis schon lange mit 
 der Idee tragt\,  ein Mietshäuser Syndikats Projekt zu gründen oder wenn 
 du Mitstreiter*innen für deine[..]\nhttps://www.m-i-n.net/events/wir-empfe
 hlen-vortrag-mietshaeuser-syndikat-2/
URL:https://www.m-i-n.net/events/wir-empfehlen-vortrag-mietshaeuser-syndikat-2/
END:VEVENT
END:VCALENDAR