BEGIN:VCALENDAR
VERSION:2.0
PRODID:-//eventon.com NONSGML v1.0//EN
CALSCALE:GREGORIAN
METHOD:PUBLISH
BEGIN:VEVENT
UID:69e75d4d93c68
DTSTAMP:20260421T111941Z
DTSTART:20250302T230000Z
DTEND:20250330T220000Z
LOCATION:
SUMMARY:Wir empfehlen: „Ausstellung: Fairer Handel in München”
DESCRIPTION:Ausstellung: Fairer Handel in München Wann? 03.03.2025 &#8211;
  31.03.2025 Wo?   EineWeltHaus/ Schwanthalerstr 80\,  80336 München Mün
 chen setzt sich für Fairen Handel ein. Dies zeigt vom 3. bis 31. März die
  Ausstellung „Fairer Handel in München“\,  die vom stadtweiten Bündni
 s „Fairtrade Stadt München“ im Foyer des EineWeltHaus gezeigt wird. 20
 02 war[..]\nhttps://www.m-i-n.net/events/wir-empfehlen-afairer-handel-in-mu
 enchen/
URL:https://www.m-i-n.net/events/wir-empfehlen-afairer-handel-in-muenchen/
END:VEVENT
END:VCALENDAR