BEGIN:VCALENDAR
VERSION:2.0
PRODID:-//eventon.com NONSGML v1.0//EN
CALSCALE:GREGORIAN
METHOD:PUBLISH
BEGIN:VEVENT
UID:69e7791436604
DTSTAMP:20260421T131812Z
DTSTART:20250330T080000Z
DTEND:20250330T110000Z
LOCATION:
SUMMARY:Wir empfehlen: „Wild-würzige Bärlauch-Küche"
DESCRIPTION:Wild-würzige Bärlauch-Küche Wann? Wo? LEBENSMITTELpunkt Haid
 hausen\,  c/o Münchner Ernährungsrat e.V.\,  Milchstr. 13\,  81667 Münch
 en Im Rahmen des LEBENSMITTELpunkts Haidhausen findet am Sonntag\,  den 30.
  März 2024\,  ein inspirierender Frühlings-Workshop statt! Im Mittelpunkt
  steht der Bärlauch – eine der ersten Pflanzen des Jahres\,  die mit ihr
 em würzigen Aroma und vielfältigen Einsatzmöglichkeiten[..]\nhttps://www
 .m-i-n.net/events/wir-empfehlen-wild-wuerzige-baerlauch-kueche/
URL:https://www.m-i-n.net/events/wir-empfehlen-wild-wuerzige-baerlauch-kueche/
END:VEVENT
END:VCALENDAR