BEGIN:VCALENDAR
VERSION:2.0
PRODID:-//eventon.com NONSGML v1.0//EN
CALSCALE:GREGORIAN
METHOD:PUBLISH
BEGIN:VEVENT
UID:69e5f4a112545
DTSTAMP:20260420T094049Z
DTSTART:20250219T090000Z
DTEND:20250219T150000Z
LOCATION:
SUMMARY:Wir empfehlen: „Radl-Sicherheitscheck"
DESCRIPTION:Sicher unterwegs mit dem Rad Wann?  19.02.25\,  10 &#8211; 16 
 Uhr Wo?       Kaiser-Ludwig-Platz Lassen Sie Ihr Fahrrad auf seine Verke
 hrstauglichkeit durch unsere erfahrenen Radl-Checker*innen überprüfen. De
 r Service ist natürlich kostenlos. Kleinere Mängel werden vor Ort behoben
  &#8211; für die größeren Arbeiten erhalten Sie Informationen\,  wo Sie 
 was[..]\nhttps://www.m-i-n.net/events/wir-empfehlen-radl-sicherheitscheck-2
 /
URL:https://www.m-i-n.net/events/wir-empfehlen-radl-sicherheitscheck-2/
END:VEVENT
END:VCALENDAR