BEGIN:VCALENDAR
VERSION:2.0
PRODID:-//eventon.com NONSGML v1.0//EN
CALSCALE:GREGORIAN
METHOD:PUBLISH
BEGIN:VEVENT
UID:69e735b67948b
DTSTAMP:20260421T083046Z
DTSTART:20250208T130000Z
DTEND:20250208T150000Z
LOCATION:
SUMMARY:Wir empfehlen: „Demokratie braucht DICH! Kundgebung"
DESCRIPTION:Demokratie braucht DICH! Kundgebung Wann?  8.02.25\,  14 Uhr 
 Wo?     Geschwister-Scholl-Platz In einer Zeit\,  in der Hass\,  Ausgrenz
 ung und rechtsextreme Gruppen zu einer Gefahr für unsere Demokratie werden
 \,  in der es immer mehr rechtsextreme Gewalt gibt\,  in der in unserem Nac
 hbarland Österreich die extrem rechte FPÖ den Kanzler stellen könnte\, [
 ..]\nhttps://www.m-i-n.net/events/wir-empfehlen-demokratie-braucht-dich-kun
 dgebung/
URL:https://www.m-i-n.net/events/wir-empfehlen-demokratie-braucht-dich-kundgebung/
END:VEVENT
END:VCALENDAR