BEGIN:VCALENDAR
VERSION:2.0
PRODID:-//eventon.com NONSGML v1.0//EN
CALSCALE:GREGORIAN
METHOD:PUBLISH
BEGIN:VEVENT
UID:69e75f9ee905c
DTSTAMP:20260421T112934Z
DTSTART:20250205T140000Z
DTEND:20250205T170000Z
LOCATION:
SUMMARY:Wir empfehlen: „Zukunftsfähige Gemeinschaftsgastronomie“
DESCRIPTION:Zukunftsfähige Gemeinschaftsgastronomie Wann?   5.02.25\,  1
 5:00-18:00 Wo?  Haus der Kost/ Freddie-Mercury-Strasse 5\,  80797 München
  &nbsp; Wie können Kantinen\,  Mensen\,  Seniorenzentren oder Krankenhäus
 er nachhaltiger wirtschaften\,  Lebensmittelverschwendung reduzieren und gl
 eichzeitig köstliche\,  gesunde Mahlzeiten anbieten? Das Haus der Kost in 
 München bietet Küchenverantwortlichen und Trägern von Gemeinschaftsgastr
 onomien praxisnahe Lösungen und lädt euch herzlich zu[..]\nhttps://www.m-
 i-n.net/events/wir-empfehlen-zukunftsfaehige-gemeinschaftsgastronomie/
URL:https://www.m-i-n.net/events/wir-empfehlen-zukunftsfaehige-gemeinschaftsgastronomie/
END:VEVENT
END:VCALENDAR