BEGIN:VCALENDAR
VERSION:2.0
PRODID:-//eventon.com NONSGML v1.0//EN
CALSCALE:GREGORIAN
METHOD:PUBLISH
BEGIN:VEVENT
UID:69e89f0c026f2
DTSTAMP:20260422T101228Z
DTSTART:20250117T120000Z
DTEND:20250312T180000Z
LOCATION:
SUMMARY:Wir empfehlen: „Ausstellung: München hat Plan.“
DESCRIPTION:Ausstellung: München hat Plan. Wann?   17.01.25\,  13:00 &#8
 211; 12.03.2025\,  19:00 Wo?  Rathausgalerie\,  Marienplatz 8 &nbsp; Die J
 ahresausstellung 2025 des Referats für Stadtplanung und Bauordnung trägt
  den Titel &#8222;München hat Plan&#8220; und macht den neuen Stadtentwic
 klungsplan anhand von sieben Zukunftsorten erlebbar. Die Ausstellung zeigt
 \,  wie es sich im Jahr 2040 anfühlen kann\,  in München[..]\nhttps://www
 .m-i-n.net/events/wir-empfehlen-ausstellung-muenchen-hat-plan/
URL:https://www.m-i-n.net/events/wir-empfehlen-ausstellung-muenchen-hat-plan/
END:VEVENT
END:VCALENDAR