BEGIN:VCALENDAR
VERSION:2.0
PRODID:-//eventon.com NONSGML v1.0//EN
CALSCALE:GREGORIAN
METHOD:PUBLISH
BEGIN:VEVENT
UID:69e61c12854c6
DTSTAMP:20260420T122906Z
DTSTART:20250213T173000Z
DTEND:20250213T190000Z
LOCATION:
SUMMARY:Wir empfehlen: „Besser essen! – Mit dem Einkaufskorb nachhaltige (Land-)Wirtschaft unterstützen“
DESCRIPTION:Besser essen! – Mit dem Einkaufskorb nachhaltige (Land-)Wirts
 chaft unterstützen Wann?   13.02.25\,  18:30-20:00 Wo?  Seidlvilla Schw
 abing/ Nikolaiplatz 1b\,  München\,  80802 Referentin: Lena Grami\,  alegr
 a Kommunikation Wir geben etwa 15% unseres Einkommens für Lebensmittel aus
 . Das ist wenig im weltweiten Vergleich\,  aber gleichzeitig eine riesen Ch
 ance: denn was auf dem Teller landet\, [..]\nhttps://www.m-i-n.net/events/w
 ir-empfehlen-besser-essen-mit-dem-einkaufskorb-nachhaltige-landwirtschaft-u
 nterstuetzen/
URL:https://www.m-i-n.net/events/wir-empfehlen-besser-essen-mit-dem-einkaufskorb-nachhaltige-landwirtschaft-unterstuetzen/
END:VEVENT
END:VCALENDAR