BEGIN:VCALENDAR
VERSION:2.0
PRODID:-//eventon.com NONSGML v1.0//EN
CALSCALE:GREGORIAN
METHOD:PUBLISH
BEGIN:VEVENT
UID:69e5f2ce85380
DTSTAMP:20260420T093302Z
DTSTART:20250211T180000Z
DTEND:20250211T193000Z
LOCATION:
SUMMARY:Wir empfehlen: "Superblock Westend"
DESCRIPTION:Superblock Westend &#8211; weniger Verkehr\,  mehr Bäume\,  me
 hr Platz! Wann?   11.02.25\,  19:00-20:30 Wo?  Kartoffelkombinat / ansti
 ftung\,  Daiserstr. 15 im Rückgebäude Angelehnt an die weitgehend verkeh
 rsberuhigten &#8222;Superblocks&#8220; in Barcelona\,  hat im Sommer 2024 d
 er Münchener Stadtrat das Pilotprojekt zur Umwandlung eines Teiles des Wes
 tends in ein Nachbarschaftsviertel beschlossen. Bereits 2020 hat die[..]\nh
 ttps://www.m-i-n.net/events/wir-empfehlen-superblock-westend/
URL:https://www.m-i-n.net/events/wir-empfehlen-superblock-westend/
END:VEVENT
END:VCALENDAR