BEGIN:VCALENDAR
VERSION:2.0
PRODID:-//eventon.com NONSGML v1.0//EN
CALSCALE:GREGORIAN
METHOD:PUBLISH
BEGIN:VEVENT
UID:69e89eed811dd
DTSTAMP:20260422T101157Z
DTSTART:20250128T150000Z
DTEND:20250128T163000Z
LOCATION:
SUMMARY:Wir empfehlen: "Wärmepumpe trifft Photovoltaik – Heizen mit Erneuerbaren Energien"
DESCRIPTION:C.A.R.M.E.N.-WebSeminar „Wärmepumpe trifft Photovoltaik – 
 Heizen mit Erneuerbaren Energien” Wann?   28.01.25\,  16:00-17:30 Wo? 
    online Immer mehr Menschen setzen bei der Energiebereitstellung in den 
 eigenen vier Wänden auf Erneuerbare Energien. In vielen Häusern sorgt ein
 e Wärmepumpe im Winter für wohlig warme Temperaturen und eine PV-Anlage f
 ür eigenen Strom vom Dach.[..]\nhttps://www.m-i-n.net/events/wir-empfehlen
 -waermepumpe-trifft-photovoltaik-heizen-mit-erneuerbaren-energien/
URL:https://www.m-i-n.net/events/wir-empfehlen-waermepumpe-trifft-photovoltaik-heizen-mit-erneuerbaren-energien/
END:VEVENT
END:VCALENDAR