BEGIN:VCALENDAR
VERSION:2.0
PRODID:-//eventon.com NONSGML v1.0//EN
CALSCALE:GREGORIAN
METHOD:PUBLISH
BEGIN:VEVENT
UID:69e499ef62ae7
DTSTAMP:20260419T090135Z
DTSTART:20250725T220000Z
DTEND:20250726T220000Z
LOCATION:
SUMMARY:Wir empfehlen: "Zamanand Festival 2025"
DESCRIPTION:Zamanand Festival 2025 Wann? 26.-27. Juli 2025 Wo?     Ludwig
 straße Das Straßenfestival will auf die Herausforderungen unserer Zeit au
 fmerksam machen und unterhält mit Musik\,  Workshops\,  Mitmachaktionen un
 d Info-Ständen auf der autofreien Ludwigstraße. Weitere Informationen und
  die Anmeldung  findest du hier.\nhttps://www.m-i-n.net/events/wir-empfehl
 en-zamanand-festival-2025/
URL:https://www.m-i-n.net/events/wir-empfehlen-zamanand-festival-2025/
END:VEVENT
END:VCALENDAR