BEGIN:VCALENDAR
VERSION:2.0
PRODID:-//eventon.com NONSGML v1.0//EN
CALSCALE:GREGORIAN
METHOD:PUBLISH
BEGIN:VEVENT
UID:69e75ed4a84b9
DTSTAMP:20260421T112612Z
DTSTART:20241212T090000Z
DTEND:20241212T103000Z
LOCATION:
SUMMARY:Wir empfehlen: "Schuljahr der Nachhaltigkeit"
DESCRIPTION:Schuljahr der Nachhaltigkeit Veranstaltungsreihe: Digitale Arbe
 itstreffen zur praktischen Umsetzung und Begleitung des whole institution a
 pproaches (wia) im Sinne einer Bildung für Nachhaltige Entwicklung (BNE) i
 m Kontext Schule Wann? 12.12.24\,  10:00-11:30 Wo?     Online-Veranstaltu
 ng Worum geht es in der zweiten Veranstaltung? Carmen Maier von der Arbeits
 gemeinschaft Natur- und Umweltbildung Hessen[..]\nhttps://www.m-i-n.net/eve
 nts/wir-empfehlen-schuljahr-der-nachhaltigkeit/
URL:https://www.m-i-n.net/events/wir-empfehlen-schuljahr-der-nachhaltigkeit/
END:VEVENT
END:VCALENDAR