BEGIN:VCALENDAR
VERSION:2.0
PRODID:-//eventon.com NONSGML v1.0//EN
CALSCALE:GREGORIAN
METHOD:PUBLISH
BEGIN:VEVENT
UID:69e76cad44ac4
DTSTAMP:20260421T122517Z
DTSTART:20241127T183000Z
DTEND:20241127T200000Z
LOCATION:
SUMMARY:Wir empfehlen: "Das Anthropozän beginnt?-Filmvorführung"
DESCRIPTION:Das Anthropozän beginnt? Filmvorführung mit Diskussion Wann? 
 27.11.24\,  19:30 Wo?      Stadtteilkulturzentrum Guardini90/ Guardinist
 raße 90\,  81379 München Mit dem Film „Die Epoche des Menschen“ wird 
 auf eine Reise rund um den Globus eingegangen. Dies kann mit beeindruckende
 n Bildern\,  wie der Mensch die Erde nach seinen Vorstellungen und Bedürfn
 issen gestaltet\, [..]\nhttps://www.m-i-n.net/events/wir-empfehlen-das-anth
 ropozaen-beginnt-filmvorfuehrung/
URL:https://www.m-i-n.net/events/wir-empfehlen-das-anthropozaen-beginnt-filmvorfuehrung/
END:VEVENT
END:VCALENDAR