BEGIN:VCALENDAR
VERSION:2.0
PRODID:-//eventon.com NONSGML v1.0//EN
CALSCALE:GREGORIAN
METHOD:PUBLISH
BEGIN:VEVENT
UID:69e60b79e1e59
DTSTAMP:20260420T111817Z
DTSTART:20241115T170000Z
DTEND:20241115T200000Z
LOCATION:
SUMMARY:Wir empfehlen: "Bio für den schmalen Geldbeutel"
DESCRIPTION:Bio für den schmalen Geldbeutel Wann? 15.11.24\,  18:00-21:00 
 Wo?      MER-Geschäftsstelle/ Milchstr. 13\,  81667 München Die gelern
 te Köchin und Vorständin des Münchner Ernährungsrats Susanne Kiehl ze
 igt\,  dass gesunde Ernährung nicht teuer sein muss. Mit regionalen Bio-Zu
 taten lassen sich abwechslungsreiche\,  nachhaltige und vor allem köstlich
 e Gerichte spielend leicht zubereiten &#8211; und das[..]\nhttps://www.m-i-
 n.net/events/wir-empfehlen-bio-fuer-den-schmalen-geldbeutel/
URL:https://www.m-i-n.net/events/wir-empfehlen-bio-fuer-den-schmalen-geldbeutel/
END:VEVENT
END:VCALENDAR