BEGIN:VCALENDAR
VERSION:2.0
PRODID:-//eventon.com NONSGML v1.0//EN
CALSCALE:GREGORIAN
METHOD:PUBLISH
BEGIN:VEVENT
UID:69e74ae0263d3
DTSTAMP:20260421T100104Z
DTSTART:20241115T130000Z
DTEND:20241115T173000Z
LOCATION:
SUMMARY:Vernetzungsworkshop "NEBourhoods - Neuperlach isst grün"
DESCRIPTION:Vernetzungsworkshop „NEBourhoods &#8211; Neuperlach isst grü
 n“ &nbsp; Wann? 15.11.24\,  14:00-18:30 Wo?      Gemeindesaal der Lät
 arekirche\,  Quiddestr. 15 Zwei Jahre lang wurde im Rahmen des EU-Projekts 
 NEBourhoods das Projekt „Neuperlach isst grün“ umgesetzt\,  um den Weg
  zu einem essbaren Quartier zu bereiten. Orte wurden belebt und aufgebaut\,
   an denen gepflanzt\, [..]\nhttps://www.m-i-n.net/events/vernetzungsworksh
 op-nebourhoods-neuperlach-isst-gruen/
URL:https://www.m-i-n.net/events/vernetzungsworkshop-nebourhoods-neuperlach-isst-gruen/
END:VEVENT
END:VCALENDAR