BEGIN:VCALENDAR
VERSION:2.0
PRODID:-//eventon.com NONSGML v1.0//EN
CALSCALE:GREGORIAN
METHOD:PUBLISH
BEGIN:VEVENT
UID:69e60cf940c47
DTSTAMP:20260420T112441Z
DTSTART:20241125T170000Z
DTEND:20241125T180000Z
LOCATION:
SUMMARY:Wir empfehlen: "Es geht auch anders! Visionen für eine Migrationspolitik der Zukunft"
DESCRIPTION:Es geht auch anders! Visionen für eine Migrationspolitik der Z
 ukunft Online-Diskussionsreihe im Gespräch mit Matthias Weinzierl und dem 
 Bündnis „Offen!“ Wann? 25.11.24\,  18:00-19:00 Wo?      Online übe
 r Zoom Im Rahmen der Veranstaltungsreihe Es geht auch anders! Visionen fü
 r eine Migrationspolitik der Zukunft lädt die Petra-Kelly-Stiftung zum Ge
 spräch mit Matthias Weinzierl und[..]\nhttps://www.m-i-n.net/events/wir-em
 pfehlen-es-geht-auch-anders-vision-fuer-eine-migrationspolitik-der-zukunft/
URL:https://www.m-i-n.net/events/wir-empfehlen-es-geht-auch-anders-vision-fuer-eine-migrationspolitik-der-zukunft/
END:VEVENT
END:VCALENDAR