BEGIN:VCALENDAR
VERSION:2.0
PRODID:-//eventon.com NONSGML v1.0//EN
CALSCALE:GREGORIAN
METHOD:PUBLISH
BEGIN:VEVENT
UID:69e5e76a153dc
DTSTAMP:20260420T084426Z
DTSTART:20241216T140000Z
DTEND:20241216T150000Z
LOCATION:
SUMMARY:Wir empfehlen: "Workshop “Beteiligung braucht Raum”"
DESCRIPTION:Workshop “Beteiligung braucht Raum” &nbsp; Wann? 16.12.24\,
   15:00-16:00 Uhr Wo?      Online Demokratie fehlt Begegnung: Schwimmbä
 der\,  Jugendclubs\,  Bibliotheken oder Sportvereine werden weniger. Indivi
 duelle Freizeitgestaltung\,  digitale Medien und zuletzt die Coronapandemie
  haben vielen Begegnungsstätten den Rest gegeben. Aber Demokratie braucht 
 Räume des Zusammentreffens\,  damit sie dauerhaft funktioniert\,  auch jen
 seits von[..]\nhttps://www.m-i-n.net/events/wir-empfehlen-workshop-beteilig
 ung-braucht-raum/
URL:https://www.m-i-n.net/events/wir-empfehlen-workshop-beteiligung-braucht-raum/
END:VEVENT
END:VCALENDAR