BEGIN:VCALENDAR
VERSION:2.0
PRODID:-//eventon.com NONSGML v1.0//EN
CALSCALE:GREGORIAN
METHOD:PUBLISH
BEGIN:VEVENT
UID:69e74b97d5b10
DTSTAMP:20260421T100407Z
DTSTART:20241127T183000Z
DTEND:20241127T193000Z
LOCATION:
SUMMARY:Wir empfehlen: "Impact Investing"
DESCRIPTION:Impact Investing – nachhaltige Geldanlagen für den Ausbau er
 neuerbarer Energien &nbsp; Wann? 27.11.24\,  19:30-20:30 Uhr Wo?      On
 line Nachdem das eigene Dach oder der Balkon bereits mit PV-Modulen bestüc
 kt wurde\,  gibt es noch weitere Möglichkeiten\,  die Energiewende voranzu
 treiben. Eine große und skalierbare Auswirkung haben  Geldanlagen  in de
 n Ausbau erneuerbarer[..]\nhttps://www.m-i-n.net/events/wir-empfehlen-impac
 t-investing-2/
URL:https://www.m-i-n.net/events/wir-empfehlen-impact-investing-2/
END:VEVENT
END:VCALENDAR