BEGIN:VCALENDAR
VERSION:2.0
PRODID:-//eventon.com NONSGML v1.0//EN
CALSCALE:GREGORIAN
METHOD:PUBLISH
BEGIN:VEVENT
UID:69e610ea5b644
DTSTAMP:20260420T114130Z
DTSTART:20241204T180000Z
DTEND:20241204T200000Z
LOCATION:
SUMMARY:Wir empfehlen: "Zukunfts-Energie-Genossenschaften – Präsentationen und Gespräche"
DESCRIPTION:Pascal Lang\,  Katharina Habersbrunner\,  Serena Keller: Zukunf
 ts-Energie-Genossenschaften – Präsentationen und Gespräche Wann? 04.12.
 2024\,  19:00-21:00 Wo?   Münchner Zukunftssalon/ Goethestraße 28\,  80
 336 München (auch Online Teilnahme möglich) Im Rahmen des &#8222;Klimaher
 bst 2024&#8220; mit dem Schwerpunkt &#8222;Arbeit\,  Geld und Wirtschaft im
  Kontext der Klimakrise&#8220; Bis 2030 sollen 80 Prozent des Stroms in Deu
 tschland[..]\nhttps://www.m-i-n.net/events/wir-empfehlen-zukunfts-energie-g
 enossenschaften-praesentationen-und-gespraeche/
URL:https://www.m-i-n.net/events/wir-empfehlen-zukunfts-energie-genossenschaften-praesentationen-und-gespraeche/
END:VEVENT
END:VCALENDAR