BEGIN:VCALENDAR
VERSION:2.0
PRODID:-//eventon.com NONSGML v1.0//EN
CALSCALE:GREGORIAN
METHOD:PUBLISH
BEGIN:VEVENT
UID:69e60cfda6c53
DTSTAMP:20260420T112445Z
DTSTART:20241107T170000Z
DTEND:20241107T190000Z
LOCATION:
SUMMARY:Wir empfehlen: "Baurecht für preiswerten Wohnraum"
DESCRIPTION:Baurecht für preiswerten Wohnraum Wann? 07.11.2024\,  18:00-20
 :00 Wo?   PlanTreff/ Blumenstraße 31\,  80331 München Die Instrumente B
 ebauungsplan und Sozialgerechte Bodennutzung Der Bebauungsplan (B-Plan) ist
  eines der wichtigsten Instrumente der Stadtplanung und Stadtgestaltung. An
 hand eines konkreten Projekts werden alle Schritte eines Bebauungsplanverfa
 hrens anschaulich erklärt. Neben den gesetzlichen Anforderungen wird darge
 stellt\,  wie die[..]\nhttps://www.m-i-n.net/events/wir-empfehlen-baurecht-
 fuer-preiswerten-wohnraum/
URL:https://www.m-i-n.net/events/wir-empfehlen-baurecht-fuer-preiswerten-wohnraum/
END:VEVENT
END:VCALENDAR