BEGIN:VCALENDAR
VERSION:2.0
PRODID:-//eventon.com NONSGML v1.0//EN
CALSCALE:GREGORIAN
METHOD:PUBLISH
BEGIN:VEVENT
UID:69e777fd6111c
DTSTAMP:20260421T131333Z
DTSTART:20241128T170000Z
DTEND:20241128T190000Z
LOCATION:
SUMMARY:Wir empfehlen: "Gespräch zur Stadtbaukultur – Stadtbaurätin Elisabeth Merk lädt ein"
DESCRIPTION:Gespräch zur Stadtbaukultur – Stadtbaurätin Elisabeth Merk 
 lädt ein Wann? 28.11.2024\,  18:00-20:00 Wo?   PlanTreff/ Blumenstraße 
 31\,  80331 München Stadtbaurätin Elisabeth Merk spricht mit dem IBA-Gesc
 häftsführer Oliver Weigel über das besondere städtebauliche Instrument 
 der Internationale Bauausstellung. Die Internationale Bauausstellung Metrop
 olregion München wird in den kommenden zehn Jahren die „Räume der Mobil
 ität“[..]\nhttps://www.m-i-n.net/events/wir-empfehlen-gespraech-zur-stad
 tbaukultur-stadtbauraetin-elisabeth-merk-laedt-ein/
URL:https://www.m-i-n.net/events/wir-empfehlen-gespraech-zur-stadtbaukultur-stadtbauraetin-elisabeth-merk-laedt-ein/
END:VEVENT
END:VCALENDAR