BEGIN:VCALENDAR
VERSION:2.0
PRODID:-//eventon.com NONSGML v1.0//EN
CALSCALE:GREGORIAN
METHOD:PUBLISH
BEGIN:VEVENT
UID:69e748faa9f4a
DTSTAMP:20260421T095258Z
DTSTART:20241021T173000Z
DTEND:20241021T193000Z
LOCATION:
SUMMARY:Wir empfehlen: "Solar2030 Balkonkraftwerk-Infoveranstaltung"
DESCRIPTION:Solar2030 Balkonkraftwerk-Infoveranstaltung Wann? 21.10.2024\, 
  19.30 &#8211; 21.00 Uhr Wo?      Online Teilnahme Balkonkraftwerke (au
 ch Stecker-Solargeräte) sind kinderleicht in der Handhabung wenn Du auf ei
 n paar Dinge achtest. Dann heißt es: einstecken\,  Sonnenenergie ernten\, 
  Klima schützen und gleichzeitig noch Stromkosten sparen! In dieser Online
 veranstaltung erfährst Du (fast) alles zu Balkonkraftwerken (Dauer[..]\nht
 tps://www.m-i-n.net/events/wir-empfehlen-solar2023-balkonkraftwerk-infovera
 nstaltung/
URL:https://www.m-i-n.net/events/wir-empfehlen-solar2023-balkonkraftwerk-infoveranstaltung/
END:VEVENT
END:VCALENDAR