BEGIN:VCALENDAR
VERSION:2.0
PRODID:-//eventon.com NONSGML v1.0//EN
CALSCALE:GREGORIAN
METHOD:PUBLISH
BEGIN:VEVENT
UID:69e746d00c0a8
DTSTAMP:20260421T094344Z
DTSTART:20241012T080000Z
DTEND:20241012T140000Z
LOCATION:
SUMMARY:Wir empfehlen: "Welches Wachstum wollen wir"
DESCRIPTION:Philosophische\,  ökonomische und gesellschaftliche Perspektiv
 en Wann?   12.10.24\,  10-16 Uhr Wo?        Münchner Zukunftssalon\, 
  Goethestr. 28 Der Münchner Klimaherbst 2024 widmet sich dem Themenschwerp
 unkt “Arbeit\,  Wirtschaft und Finanzen im Kontext der Klimakrise”. In 
 diesem Rahmen findet die Veranstaltung „Welches Wachstum wollen wir? Phil
 osophische\,  ökonomische und gesellschaftliche Perspektiven“ gemeinsam[
 ..]\nhttps://www.m-i-n.net/events/welches-wachstum-wollen-wir/
URL:https://www.m-i-n.net/events/welches-wachstum-wollen-wir/
END:VEVENT
END:VCALENDAR