BEGIN:VCALENDAR
VERSION:2.0
PRODID:-//eventon.com NONSGML v1.0//EN
CALSCALE:GREGORIAN
METHOD:PUBLISH
BEGIN:VEVENT
UID:69e5e7beb2a70
DTSTAMP:20260420T084550Z
DTSTART:20250109T170000Z
DTEND:20250109T200000Z
LOCATION:
SUMMARY:Wir empfehlen: "Gesundheit für Frauen"
DESCRIPTION:Gesundheit für Frauen- Selbstuntersuchung der Brust Teil der T
 hemenreihe Gesundheit neu denken Wann? 09.01.25\,  18-21 Uhr Wo?      K
 ulturladen Westend\,  Ligsalzstr. 44 In diesem Workshop für FLINTA*-Person
 en könnt ihr euch in einer entspannten und sicheren Atmosphäre über Brus
 tgesundheit austauschen. Wir laden dazu ein\,  den eigenen Körper besser k
 ennenzulernen und Selbst-Untersuchungstechniken[..]\nhttps://www.m-i-n.net/
 events/wir-empfehlen-gesundheit-fuer-frauen/
URL:https://www.m-i-n.net/events/wir-empfehlen-gesundheit-fuer-frauen/
END:VEVENT
END:VCALENDAR