BEGIN:VCALENDAR
VERSION:2.0
PRODID:-//eventon.com NONSGML v1.0//EN
CALSCALE:GREGORIAN
METHOD:PUBLISH
BEGIN:VEVENT
UID:69e5f8373ddba
DTSTAMP:20260420T095607Z
DTSTART:20241004T160000Z
DTEND:20241004T190000Z
LOCATION:
SUMMARY:Wir empfehlen: "Gesundheit fÃ¼r alle statt Profit fÃ¼r wenige"
DESCRIPTION:Gesundheit fÃ¼r alle statt Profit fÃ¼r wenige â€“ Stadtteilgesu
 ndheitszentren als Zukunftsmodell Teil der Themenreihe Gesundheit neu denke
 n Wann? 04.10.24\,  18-21 Uhr Wo?Â Â Â Â  EineWeltHaus\,  SchwanthalerstraÃ
 Ÿe 80 Soziale Ungleichheiten wie wenig Geld\,  unsicheres Wohnen und Diskri
 minierung machen Menschen krank. Um das zu Ã¤ndern\,  brauchen wir LÃ¶sunge
 n\,  die diese Probleme berÃ¼cksichtigen. Dazu gehÃ¶rt\, [..]\nhttps://www.
 m-i-n.net/events/wir-empfehlen-gesundheit-fuer-alle-statt-profit-fuer-wenig
 e/
URL:https://www.m-i-n.net/events/wir-empfehlen-gesundheit-fuer-alle-statt-profit-fuer-wenige/
END:VEVENT
END:VCALENDAR