BEGIN:VCALENDAR
VERSION:2.0
PRODID:-//eventon.com NONSGML v1.0//EN
CALSCALE:GREGORIAN
METHOD:PUBLISH
BEGIN:VEVENT
UID:69e88a41bccab
DTSTAMP:20260422T084345Z
DTSTART:20240916T153000Z
DTEND:20240916T190000Z
LOCATION:
SUMMARY:Wir empfehlen: "Mehr Grün für eine kühle Stadt“
DESCRIPTION:Vorträge und Exkursion: Mehr Grün für eine kühle Stadt Exku
 rsion: Wann? 16.09.2024\,  17:30-19 Uhr Wo? Am Bavariapark 5 Vortrag: Wann?
   16.09.2024\,  19 Uhr Wo? Ganghoferstraße 66\,  1. Stock München muss s
 ich auf die Folgen des Klimawandels vorbereiten. Das zeigen die zunehmenden
  Wetterextreme der letzten Jahre. Trotz zahlreicher Grünflächen wie dem[.
 .]\nhttps://www.m-i-n.net/events/wir-empfehlen-mehr-gruen-fuer-eine-kuehle-
 stadt/
URL:https://www.m-i-n.net/events/wir-empfehlen-mehr-gruen-fuer-eine-kuehle-stadt/
END:VEVENT
END:VCALENDAR