BEGIN:VCALENDAR
VERSION:2.0
PRODID:-//eventon.com NONSGML v1.0//EN
CALSCALE:GREGORIAN
METHOD:PUBLISH
BEGIN:VEVENT
UID:69e60b391d2bd
DTSTAMP:20260420T111713Z
DTSTART:20240924T163000Z
DTEND:20240924T183000Z
LOCATION:
SUMMARY:Wir empfehlen: „Stammtisch: Faire Wiesn"
DESCRIPTION:Gibt&#8217;s d&#8217;Wiesn auch in fair?  Wann? 24.09.2024 18:
 30 &#8211; 20:30 Wo? MER-Geschäftsstelle\,  Milchstr. 13 Das größte Volk
 sfest der Welt verleiht unserer schönen Heimatstadt ganz besondere Anziehu
 ngskraft. 2023 besuchten ganze 7\, 2 Millionen Menschen die Wiesn. Dementsp
 rechend beeindruckend sind die Mengen an Essen\,  die in den zwei Wochen ve
 rtilgt werden. Auch wenn[..]\nhttps://www.m-i-n.net/events/wir-empfehlen-st
 ammtisch-faire-wiesn/
URL:https://www.m-i-n.net/events/wir-empfehlen-stammtisch-faire-wiesn/
END:VEVENT
END:VCALENDAR