BEGIN:VCALENDAR
VERSION:2.0
PRODID:-//eventon.com NONSGML v1.0//EN
CALSCALE:GREGORIAN
METHOD:PUBLISH
BEGIN:VEVENT
UID:69e5fe41d1991
DTSTAMP:20260420T102153Z
DTSTART:20240920
DTEND:20240921
LOCATION:
SUMMARY:Wir empfehlen: "Globaler Klimastreik"
DESCRIPTION:Nächster globaler Klimastreik am 20. September 2024 Wann?   
          20. September | 12:00 Wo?                 Königspl
 atz München Ja\,  ihr habt richtig gehört: es ist endlich wieder so weit 
 &#8211; Lass jetzt alles stehen und liegen und markiert euch den 20. Septem
 ber 2024[..]\nhttps://www.m-i-n.net/events/https-www-m-i-n-net-events/
URL:https://www.m-i-n.net/events/https-www-m-i-n-net-events/
END:VEVENT
END:VCALENDAR