BEGIN:VCALENDAR
VERSION:2.0
PRODID:-//eventon.com NONSGML v1.0//EN
CALSCALE:GREGORIAN
METHOD:PUBLISH
BEGIN:VEVENT
UID:69e74667b3b24
DTSTAMP:20260421T094159Z
DTSTART:20241024T133000Z
DTEND:20241024T191500Z
LOCATION:
SUMMARY:Arbeitsmigration im Kontext der Klimakrise – wie geht das gerecht?
DESCRIPTION:&nbsp; Arbeitsmigration im Kontext der Klimakrise – wie geht 
 das gerecht? &nbsp; Wann?              24.10.2024\,  15:30 &#8211; 2
 1:15 Uhr Wo?                   Kunstlabor 2\,  Dachauerstr. 90\, 
  München &nbsp; Das koloniale Erbe und die Klimakrise prägen Arbeitsmigra
 tion: Menschen migrieren\,  wenn[..]\nhttps://www.m-i-n.net/events/arbeitsm
 igration-im-kontext-der-klimakrise-wie-geht-das-gerecht/
URL:https://www.m-i-n.net/events/arbeitsmigration-im-kontext-der-klimakrise-wie-geht-das-gerecht/
END:VEVENT
END:VCALENDAR