BEGIN:VCALENDAR
VERSION:2.0
PRODID:-//eventon.com NONSGML v1.0//EN
CALSCALE:GREGORIAN
METHOD:PUBLISH
BEGIN:VEVENT
UID:69e74c5997ba5
DTSTAMP:20260421T100721Z
DTSTART:20240914
DTEND:20240915
LOCATION:
SUMMARY:Wir empfehlen: "Zamanand Festival"
DESCRIPTION:&nbsp; Zamanand Festival &nbsp; Wann?               14.
 09.2024 &#8211; 15.09.2024 Wo?                    Verschiedene S
 tandorte &nbsp; Beim Zamanand Festival informieren Münchner Vereine und In
 stitutionen über Themen der Münchner Stadtgesellschaft\,  Umweltschutz\, 
  Gleichberechtigung und Konsum. Schirmherr des Straßenfestes ist Oberbürg
 ermeister Dieter Reiter.[..]\nhttps://www.m-i-n.net/events/wir-empfehlen-za
 manand-festival/
URL:https://www.m-i-n.net/events/wir-empfehlen-zamanand-festival/
END:VEVENT
END:VCALENDAR