BEGIN:VCALENDAR
VERSION:2.0
PRODID:-//eventon.com NONSGML v1.0//EN
CALSCALE:GREGORIAN
METHOD:PUBLISH
BEGIN:VEVENT
UID:69e74b7fac993
DTSTAMP:20260421T100343Z
DTSTART:20240914T080000Z
DTEND:20240914T100000Z
LOCATION:
SUMMARY:Wir empfehlen: "Workshop: Gebrauchte Solarmodule wieder verwenden"
DESCRIPTION:&nbsp; Workshop: Gebrauchte Solarmodule wieder verwenden &nbsp;
  Wann?Â  Â  Â  Â  Â  Â  Â  14.09.2024\,  10:00 &#8211; 12:00 Uhr Wo?Â  Â  Â
   Â  Â  Â  Â  Â Â  Â Â Mohr-Villa\,  SitulistraÃŸe 75 &nbsp; 800.000 Module
  werden pro Jahr in Deutschland verschrottet. Nach der Erfahrung der Panelr
 etter sind im Durchschnitt 60% noch fÃ¼r[..]\nhttps://www.m-i-n.net/events/
 workshop-gebrauchte-solarmodule-wieder-verwenden/
URL:https://www.m-i-n.net/events/workshop-gebrauchte-solarmodule-wieder-verwenden/
END:VEVENT
END:VCALENDAR