BEGIN:VCALENDAR
VERSION:2.0
PRODID:-//eventon.com NONSGML v1.0//EN
CALSCALE:GREGORIAN
METHOD:PUBLISH
BEGIN:VEVENT
UID:69e621c6f21eb
DTSTAMP:20260420T125326Z
DTSTART:20240925T180000Z
DTEND:20240925T193000Z
LOCATION:
SUMMARY:Wir empfehlen: "Solar2030 Balkonkraftwerk"
DESCRIPTION:&nbsp; Solar2030 Balkonkraftwerk &nbsp; Wann?            
   25.09.2024\,  20:00 &#8211; 21:30 Uhr Wo?                   On
 line &nbsp; Balkonkraftwerke (auch Stecker-Solargeräte) sind kinderleicht 
 in der Handhabung wenn Du auf ein paar Dinge achtest. Dann heißt es: einst
 ecken\,  Sonnenenergie ernten\,  Klima schützen[..]\nhttps://www.m-i-n.net
 /events/solar2030-balkonkraftwerk-2/
URL:https://www.m-i-n.net/events/solar2030-balkonkraftwerk-2/
END:VEVENT
END:VCALENDAR