BEGIN:VCALENDAR
VERSION:2.0
PRODID:-//eventon.com NONSGML v1.0//EN
CALSCALE:GREGORIAN
METHOD:PUBLISH
BEGIN:VEVENT
UID:69e7346dd00c2
DTSTAMP:20260421T082517Z
DTSTART:20240919T173000Z
DTEND:20240919T183000Z
LOCATION:
SUMMARY:Wir empfehlen: "Impact Investing – nachhaltige Geldanlagen für den Ausbau erneuerbarer Energien"
DESCRIPTION:&nbsp; Impact Investing – nachhaltige Geldanlagen für den Au
 sbau erneuerbarer Energien &nbsp; Wann?              19.09.2024\,  1
 9:30 &#8211; 20:30 Uhr Wo?                   Online &nbsp; Nachde
 m das eigene Dach oder der Balkon bereits mit PV-Modulen bestückt wurde\, 
  gibt es noch[..]\nhttps://www.m-i-n.net/events/impact-investing-nachhaltig
 e-geldanlagen-fuer-den-ausbau-erneuerbarer-energien/
URL:https://www.m-i-n.net/events/impact-investing-nachhaltige-geldanlagen-fuer-den-ausbau-erneuerbarer-energien/
END:VEVENT
END:VCALENDAR