BEGIN:VCALENDAR
VERSION:2.0
PRODID:-//eventon.com NONSGML v1.0//EN
CALSCALE:GREGORIAN
METHOD:PUBLISH
BEGIN:VEVENT
UID:69e609aae2c61
DTSTAMP:20260420T111034Z
DTSTART:20240718T160000Z
DTEND:20240718T200000Z
LOCATION:
SUMMARY:Wir empfehlen: "Feierliche Eröffnung der VerhandelBar"
DESCRIPTION:&nbsp; Feierliche Eröffnung der VerhandelBar Eröffnung der We
 chselausstellung\,  Podium und Musik &nbsp; Wann?               18.
 07.2024\,  18.00 &#8211; 22.00 Uhr Wo?                   Verhande
 lBar: Sandstraße 47a\,  80335 München Am 18. Juli eröffnet die Verhande
 lBar\,  eine künstlerisch-architektonische Intervention und öffentlicher 
 Verhandlungsraum zum[..]\nhttps://www.m-i-n.net/events/feierliche-eroeffnun
 g-der-verhandelbar/
URL:https://www.m-i-n.net/events/feierliche-eroeffnung-der-verhandelbar/
END:VEVENT
END:VCALENDAR