BEGIN:VCALENDAR
VERSION:2.0
PRODID:-//eventon.com NONSGML v1.0//EN
CALSCALE:GREGORIAN
METHOD:PUBLISH
BEGIN:VEVENT
UID:69e74c6423fc4
DTSTAMP:20260421T100732Z
DTSTART:20240709T163000Z
DTEND:20240709T183000Z
LOCATION:
SUMMARY:Wir empfehlen: "Meet the Mitglied: Wir besuchen die Isarland Ökokiste"
DESCRIPTION:&nbsp; Meet the Mitglied: Wir besuchen die Isarland Ökokiste &
 nbsp; Wann?               09.07.2024\,  18:30 &#8211; 20:30 Uhr Wo?
                     Isarland Ökokiste\,  Rotwandweg 1\,  82024 
 Taufkirchen &nbsp; Seit 1996 beliefert die Isarland Ökokiste Privathaushal
 te\,  Unternehmen\,  Kindergärten und Schulen mit[..]\nhttps://www.m-i-n.n
 et/events/meet-the-mitglied-wir-besuchen-die-isarland-oekokiste/
URL:https://www.m-i-n.net/events/meet-the-mitglied-wir-besuchen-die-isarland-oekokiste/
END:VEVENT
END:VCALENDAR