BEGIN:VCALENDAR
VERSION:2.0
PRODID:-//eventon.com NONSGML v1.0//EN
CALSCALE:GREGORIAN
METHOD:PUBLISH
BEGIN:VEVENT
UID:69e74c53bfa42
DTSTAMP:20260421T100715Z
DTSTART:20240802T170000Z
DTEND:20240802T200000Z
LOCATION:
SUMMARY:Wir empfehlen: "Freiluftkino + Drinks"
DESCRIPTION:&nbsp; Freiluftkino + Drinks &nbsp; Wann?Â  Â  Â  Â  Â  Â  Â  Â
  12.07.2024 &amp; 02.08.2024\,  19:00 &#8211; 22:00 Uhr Wo?Â  Â  Â  Â  Â  Â
   Â  Â Â  Â  Â Ecke Kiliansplatz &#8211; KazmairstraÃŸe &nbsp; Wir\,  das i
 st das Team von UMLENKEN. Umlenken setzt sich ein fÃ¼r eine zukunftsfÃ¤hige
 \,  innovative\,  nachhaltige und[..]\nhttps://www.m-i-n.net/events/freiluf
 tkino-drinks-2/
URL:https://www.m-i-n.net/events/freiluftkino-drinks-2/
END:VEVENT
END:VCALENDAR