BEGIN:VCALENDAR
VERSION:2.0
PRODID:-//eventon.com NONSGML v1.0//EN
CALSCALE:GREGORIAN
METHOD:PUBLISH
BEGIN:VEVENT
UID:69e5e538ebbfa
DTSTAMP:20260420T083504Z
DTSTART:20240717T173000Z
DTEND:20240717T183000Z
LOCATION:
SUMMARY:Wir empfehlen: "Solar2030 Balkonkraftwerk"
DESCRIPTION:&nbsp; Solar2030 Balkonkraftwerk &nbsp; Wann?            
    17.07.2024\,  19:30 &#8211; 20:30 Uhr Wo?                   
  Online &nbsp; Balkonkraftwerke (auch Stecker-Solargeräte) sind kinderlei
 cht in der Handhabung wenn Du auf ein paar Dinge achtest. Dann heißt es: e
 instecken\,  Sonnenenergie ernten\,  Klima schützen[..]\nhttps://www.m-i-n
 .net/events/solar2030-balkonkraftwerk/
URL:https://www.m-i-n.net/events/solar2030-balkonkraftwerk/
END:VEVENT
END:VCALENDAR