BEGIN:VCALENDAR
VERSION:2.0
PRODID:-//eventon.com NONSGML v1.0//EN
CALSCALE:GREGORIAN
METHOD:PUBLISH
BEGIN:VEVENT
UID:69e5f58dac9e6
DTSTAMP:20260420T094445Z
DTSTART:20240622T083000Z
DTEND:20240622T113000Z
LOCATION:
SUMMARY:Wir empfehlen: "Klima Puzzle Workshop"
DESCRIPTION:Klima Puzzle Workshop &nbsp; Wann?               22.06.
 2024\,  10:30 &#8211; 13:30 Uhr Wo?                    Halle 2\,
   Gebrauchtwarenkaufhaus des Abfallwirtschaftsbetriebs\,  Peter-Anders-Stra
 ße 15\,  München &nbsp; In diesem Format der Erwachsenenbildung werden di
 e Teilnehmer*innen durch gemeinsamen Austausch dazu motiviert\,  ein besser
 es Verständnis[..]\nhttps://www.m-i-n.net/events/wir-empfehlen-klima-puzzl
 e-workshop/
URL:https://www.m-i-n.net/events/wir-empfehlen-klima-puzzle-workshop/
END:VEVENT
END:VCALENDAR