BEGIN:VCALENDAR
VERSION:2.0
PRODID:-//eventon.com NONSGML v1.0//EN
CALSCALE:GREGORIAN
METHOD:PUBLISH
BEGIN:VEVENT
UID:69e738746c584
DTSTAMP:20260421T084228Z
DTSTART:20240602T170000Z
DTEND:20240630T200000Z
LOCATION:
SUMMARY:Wir empfehlen: "Ausstellung: MÃ¼nchen: Weltstadt! Aber mit Herz? Lokale Herausforderungen und globale Verantwortung"
DESCRIPTION:Ausstellung: MÃ¼nchen: Weltstadt! Aber mit Herz? Lokale Herausf
 orderungen und globale Verantwortung Wann?Â  Â  Â  Â  Â  Â  Â  Â 02.06.2024
 \,  19.00 &#8211; 30.06.2024 22.00 Uhr; tÃ¤glich 10.00-22.00 Uhr Wo?Â  Â  Â
   Â  Â  Â  Â  Â Â  Â  anstiftung\,  Daiserstr. 15\,  RÃ¼ckgebÃ¤ude\,  81371
  MÃ¼nchen; (U ImplerstraÃŸe) Weitere Infos?Â  Hier &nbsp; Das Nord[..]\nhtt
 ps://www.m-i-n.net/events/ausstellung-muenchen-weltstadt-aber-mit-herz-loka
 le-herausforderungen-und-globale-verantwortung/
URL:https://www.m-i-n.net/events/ausstellung-muenchen-weltstadt-aber-mit-herz-lokale-herausforderungen-und-globale-verantwortung/
END:VEVENT
END:VCALENDAR