BEGIN:VCALENDAR
VERSION:2.0
PRODID:-//eventon.com NONSGML v1.0//EN
CALSCALE:GREGORIAN
METHOD:PUBLISH
BEGIN:VEVENT
UID:69e74c78a654d
DTSTAMP:20260421T100752Z
DTSTART:20240701
DTEND:20240702
LOCATION:
SUMMARY:Wir empfehlen: "Fair Play Zone"
DESCRIPTION:Fair Play Zone &nbsp; Wann?               01-07. &#8211
 ; 02.07.2024 Wo?                    Olympiapark München\,  Hans
 -Jochen-Vogel-Platz &nbsp; Wer EM-Atmosphäre schnuppern will\,  ist in der
  Fanzone des Münchner Olympiapark richtig. Ergänzend zum EM-Spektakel bie
 tet die FAIR-PLAY-ZONE ein Rahmenprogramm zu den Themen Umwelt[..]\nhttps:
 //www.m-i-n.net/events/fair-play-zone/
URL:https://www.m-i-n.net/events/fair-play-zone/
END:VEVENT
END:VCALENDAR