BEGIN:VCALENDAR
VERSION:2.0
PRODID:-//eventon.com NONSGML v1.0//EN
CALSCALE:GREGORIAN
METHOD:PUBLISH
BEGIN:VEVENT
UID:69e74d4fec614
DTSTAMP:20260421T101127Z
DTSTART:20240618T160000Z
DTEND:20240618T180000Z
LOCATION:
SUMMARY:Wir empfehlen: "PLAN – Referat für Stadtplanung und Bauordnung"
DESCRIPTION:PLAN – Referat für Stadtplanung und Bauordnung &nbsp; Beteil
 igung erlebbar machen &nbsp; Veranstaltungsreihe Innenstadt Weiterdenken! &
 nbsp; Wann?               Datum: 18.06.2024; Uhrzeit: 18.00-20.00 U
 hr Wo?                  PlanTreff\,  Blumenstraße 31\,  München
  Anmeldung? Hier &nbsp; Neue digitale Werkzeuge für interaktive Bürger*in
 nenbeteiligung in[..]\nhttps://www.m-i-n.net/events/wir-empfehlen-plan-refe
 rat-fuer-stadtplanung-und-bauordnung-2/
URL:https://www.m-i-n.net/events/wir-empfehlen-plan-referat-fuer-stadtplanung-und-bauordnung-2/
END:VEVENT
END:VCALENDAR