BEGIN:VCALENDAR
VERSION:2.0
PRODID:-//eventon.com NONSGML v1.0//EN
CALSCALE:GREGORIAN
METHOD:PUBLISH
BEGIN:VEVENT
UID:69e73919b0e62
DTSTAMP:20260421T084513Z
DTSTART:20240706T083000Z
DTEND:20240706T143000Z
LOCATION:
SUMMARY:Wir empfehlen: "Münchner Selbsthilfetag 2024"
DESCRIPTION:Münchner Selbsthilfetag 2024 &nbsp; Wann?              
  06.07.2024\,  10.30 &#8211; 16.30 Uhr Wo?                   Auf
  dem Marienplatz Mehr Infos:                   Findet ihr hier &
 nbsp; &nbsp; Wir sind schon voller Vorfreude auf diesen Tag\, [..]\nhttps:/
 /www.m-i-n.net/events/wir-empfehlen-muenchner-selbsthilfetag-2024/
URL:https://www.m-i-n.net/events/wir-empfehlen-muenchner-selbsthilfetag-2024/
END:VEVENT
END:VCALENDAR