BEGIN:VCALENDAR
VERSION:2.0
PRODID:-//eventon.com NONSGML v1.0//EN
CALSCALE:GREGORIAN
METHOD:PUBLISH
BEGIN:VEVENT
UID:69e605a961fe9
DTSTAMP:20260420T105329Z
DTSTART:20240625T130000Z
DTEND:20240625T180000Z
LOCATION:
SUMMARY:Superheld*innen-Treffen
DESCRIPTION:Superheld*innen-Treffen! Superpower-Workshop Macher*innen des n
 achhaltigen Miteinanders zeigen sich ihre SuperkrÃ¤fte und lernen voneinand
 er. &nbsp; Wann?Â  Â  Â  Â  Â  Â  Â  25.06.2024\,  15.00 &#8211; 20.00 Uhr 
 Wo?Â  Â  Â  Â  Â  Â  Â  Â Â  Â  Kulturzentrum Luise in MÃ¼nchen Anmeldung?Â
  Â  Â https://superheldinnentreffen.de/ &nbsp; Weltweit haben die destrukti
 ven Entwicklungen unserer Zeit Initiativen\, [..]\nhttps://www.m-i-n.net/ev
 ents/superheldinnen-treffen/
URL:https://www.m-i-n.net/events/superheldinnen-treffen/
END:VEVENT
END:VCALENDAR