BEGIN:VCALENDAR
VERSION:2.0
PRODID:-//eventon.com NONSGML v1.0//EN
CALSCALE:GREGORIAN
METHOD:PUBLISH
BEGIN:VEVENT
UID:69e78a3a34fb3
DTSTAMP:20260421T143122Z
DTSTART:20240515T163000Z
DTEND:20240515T183000Z
LOCATION:
SUMMARY:Wir empfehlen: "Wir sind mehr\,  oder?"
DESCRIPTION:Wir sind mehr\,  oder? Rechte Dominanz und politische Meinungsb
 ildung auf TikTok &nbsp; Wann?               15.05.2024\,  18.30 &#
 8211; 20.30 Uhr Wo?                    Import Export\,  Schwere-
 Reiter-Str. 2h &nbsp; Die AfD dominiert TikTok und das spiegelt sich in Wah
 lergebnissen wider. Bei[..]\nhttps://www.m-i-n.net/events/rechte-dominanz-u
 nd-politische-meinungsbildung-auf-tiktok/
URL:https://www.m-i-n.net/events/rechte-dominanz-und-politische-meinungsbildung-auf-tiktok/
END:VEVENT
END:VCALENDAR