BEGIN:VCALENDAR
VERSION:2.0
PRODID:-//eventon.com NONSGML v1.0//EN
CALSCALE:GREGORIAN
METHOD:PUBLISH
BEGIN:VEVENT
UID:69e5f6bae616f
DTSTAMP:20260420T094946Z
DTSTART:20240516T180000Z
DTEND:20240516T193000Z
LOCATION:
SUMMARY:Wir empfehlen: "Solar2030 Balkonkraftwerk Infoveranstaltung"
DESCRIPTION:Solar2030 Balkonkraftwerk Infoveranstaltung &nbsp; Wann?Â  Â  Â
   Â  Â  Â  Â  Â 16.05.2024\,  20.00 &#8211; 21.30 Uhr Wo?Â  Â  Â  Â  Â  Â  
 Â  Â Â  Â  Â Online (https://solar2030.de/event/solar2030-balkonkraftwerk-i
 nfoveranstaltung-2/) &nbsp; Balkonkraftwerke (auch Stecker-SolargerÃ¤te) si
 nd kinderleicht in der Handhabung wenn Du auf ein paar Dinge achtest. Dann 
 heiÃŸt es: einstecken\,  Sonnenenergie ernten\,  Klima[..]\nhttps://www.m-i
 -n.net/events/solar2030-balkonkraftwerk-infoveranstaltung/
URL:https://www.m-i-n.net/events/solar2030-balkonkraftwerk-infoveranstaltung/
END:VEVENT
END:VCALENDAR