BEGIN:VCALENDAR
VERSION:2.0
PRODID:-//eventon.com NONSGML v1.0//EN
CALSCALE:GREGORIAN
METHOD:PUBLISH
BEGIN:VEVENT
UID:69e6212a34b48
DTSTAMP:20260420T125050Z
DTSTART:20240514T170000Z
DTEND:20240514T183000Z
LOCATION:
SUMMARY:Wir empfehlen: "Landwirtschaft nachhaltig transformieren"
DESCRIPTION:Landwirtschaft nachhaltig transformieren &nbsp; Wann?Â  Â  Â  Â
   Â  Â  Â  14.05.2024\,  19.00 &#8211; 20.30 Uhr Wo?Â  Â  Â  Â  Â  Â  Â  Â 
 Â  Â  Hybridveranstaltung (Online: Zoom\,  vor Ort: MÃ¼nchner Zukunftssalon
 \,  Goethestr. 28) Anmeldung?Â  Â https://muenchner-ernaehrungsrat.de/termi
 ne/ &nbsp; Kein Wirtschaftsbereich ist so umstritten wie die derzeitige Lan
 dwirtschaft. Landwirtschaftliche Betriebe erhalten in[..]\nhttps://www.m-i-
 n.net/events/landwirtschaft-nachhaltig-transformieren/
URL:https://www.m-i-n.net/events/landwirtschaft-nachhaltig-transformieren/
END:VEVENT
END:VCALENDAR