BEGIN:VCALENDAR
VERSION:2.0
PRODID:-//eventon.com NONSGML v1.0//EN
CALSCALE:GREGORIAN
METHOD:PUBLISH
BEGIN:VEVENT
UID:69e61d6f3bb41
DTSTAMP:20260420T123455Z
DTSTART:20240511T120000Z
DTEND:20240511T160000Z
LOCATION:
SUMMARY:Wir empfehlen: "Netzwerk-Treffen Urbane Gärten München – vorab Pflanzen-Tauschbörse am ÖBZ"
DESCRIPTION:Netzwerk-Treffen Urbane Gärten München – vorab Pflanzen-Tau
 schbörse am ÖBZ &nbsp; Wann?              11.05.2024\,  14.00 &#82
 11; 18.00 Uhr Wo?                   ÖBZ-Garten Anmeldung?   ht
 tps://www.oebz.de/termin/6850/Pflanzen-Tauschboerse-mit-Netzwerk-Treffen-Ue
 rbane-Gaerten-Muenchen &nbsp; Das Netzwerk Urbane Gärten München lädt ge
 meinsam mit dem MUZ im ÖBZ in diesem Frühjahr[..]\nhttps://www.m-i-n.net/
 events/netzwerk-treffen-urbane-gaerten-muenchen/
URL:https://www.m-i-n.net/events/netzwerk-treffen-urbane-gaerten-muenchen/
END:VEVENT
END:VCALENDAR